BEGIN:VCALENDAR
VERSION:2.0
PRODID:-//wp-events-plugin.com//7.2.3.1//EN
TZID:Europe/Paris
X-WR-TIMEZONE:Europe/Paris
BEGIN:VEVENT
UID:1@harmonie-royat.fr
DTSTART;TZID=Europe/Paris:20170103T203000
DTEND;TZID=Europe/Paris:20170103T220000
DTSTAMP:20161124T145146Z
URL:https://harmonie-royat.fr/evenements/repetition-publique/
SUMMARY:Répétition publique
DESCRIPTION:L'orchestre d'harmonie de Royat est heureux de vous inviter à 
 sa répétition publique de fin d'année !\nVenez pour célébrer la fin d
 'année en musique\, avec un premier aperçu - de qualité\, bien sûr - d
 e notre futur concert à Chapdes-Beaufort.
LOCATION:Salle Paul Roux\, 3 rue du Souvenir\, Royat\, 63130\, France
GEO:45.763818;3.051407499999982
X-APPLE-STRUCTURED-LOCATION;VALUE=URI;X-ADDRESS=3 rue du Souvenir\, Royat\,
  63130\, France;X-APPLE-RADIUS=100;X-TITLE=Salle Paul Roux:geo:45.763818,3
 .051407499999982
END:VEVENT
BEGIN:VTIMEZONE
TZID:Europe/Paris
X-LIC-LOCATION:Europe/Paris
BEGIN:STANDARD
DTSTART:20161030T020000
TZOFFSETFROM:+0200
TZOFFSETTO:+0100
TZNAME:CET
END:STANDARD
END:VTIMEZONE
END:VCALENDAR