BEGIN:VCALENDAR
VERSION:2.0
PRODID:-//wp-events-plugin.com//7.2.3.1//EN
TZID:Europe/Paris
X-WR-TIMEZONE:Europe/Paris
BEGIN:VEVENT
UID:100@harmonie-royat.fr
DTSTART;TZID=Europe/Paris:20200613T200000
DTEND;TZID=Europe/Paris:20200613T220000
DTSTAMP:20200514T105758Z
URL:https://harmonie-royat.fr/evenements/harmonie-cloture-de-la-semaine-cu
 turelle-2020/
SUMMARY:Harmonie : clôture de la semaine cuturelle 2020 (Annulé)
DESCRIPTION:L'harmonie participe à la semaine culturelle en vous présenta
 nt un concert en clôture. Sur le thème de Carmina Burana\, avec chœur.\
 nPlus d'infos très prochainement !\nSuite aux dernières recommandations 
 gouvernementales dans le cadre de la crise liée au COVID-19\, cet événe
 ment est annulé.
LOCATION:L'Avan.C\, salle Philippe-Albinet\, Chemin du Breuil\, Royat\, Auv
 ergne-Rhône-Alpes\, 63130\, France
GEO:45.764099;3.041534
X-APPLE-STRUCTURED-LOCATION;VALUE=URI;X-ADDRESS=Chemin du Breuil\, Royat\, 
 Auvergne-Rhône-Alpes\, 63130\, France;X-APPLE-RADIUS=100;X-TITLE=L'Avan.C
 \, salle Philippe-Albinet:geo:45.764099,3.041534
END:VEVENT
BEGIN:VTIMEZONE
TZID:Europe/Paris
X-LIC-LOCATION:Europe/Paris
BEGIN:DAYLIGHT
DTSTART:20200329T030000
TZOFFSETFROM:+0100
TZOFFSETTO:+0200
TZNAME:CEST
END:DAYLIGHT
END:VTIMEZONE
END:VCALENDAR